BEGIN:VCALENDAR
VERSION:2.0
PRODID:-//InvisionCommunity Events 4.7.23//EN
METHOD:PUBLISH
CALSCALE:GREGORIAN
REFRESH-INTERVAL:PT15M
X-PUBLISHED-TTL:PT15M
X-WR-CALNAME:All Calendars - 501st JRS Detachment
NAME:All Calendars - 501st JRS Detachment
BEGIN:VTIMEZONE
TZID:Europe/London
TZURL:http://tzurl.org/zoneinfo/Europe/London
X-LIC-LOCATION:Europe/London
BEGIN:DAYLIGHT
TZOFFSETFROM:+0000
TZOFFSETTO:+0100
TZNAME:BST
DTSTART:20250330T020000Z
RRULE:FREQ=YEARLY;BYMONTH=3;BYDAY=-1SU
END:DAYLIGHT
BEGIN:STANDARD
TZOFFSETFROM:+0100
TZOFFSETTO:+0000
TZNAME:GMT
DTSTART:20251026T020000Z
RRULE:FREQ=YEARLY;BYMONTH=10;BYDAY=-1SU
END:STANDARD
END:VTIMEZONE
BEGIN:VEVENT
SUMMARY:Star Wars Celebration Japan
DTSTAMP:20240826T222456Z
SEQUENCE:0
UID:1-1-538bba17a4187d8d037bad86f3b6d7d8@forum.jrs501st.com
ORGANIZER;CN="TristanUK":admin@jrs501st.com
DESCRIPTION:\n	Read all about the latest Star Wars Celebration in Japan 
	here\n\n\n\n	https://www.starwarscelebration.com/\n\n
DTSTART;VALUE=DATE:20250418
DTEND;VALUE=DATE:20250421
END:VEVENT
END:VCALENDAR
